BEGIN:VCALENDAR
VERSION:2.0
PRODID:-//恵迪寮同窓会 - ECPv5.8.0//NONSGML v1.0//EN
CALSCALE:GREGORIAN
METHOD:PUBLISH
X-WR-CALNAME:恵迪寮同窓会
X-ORIGINAL-URL:https://www.keiteki-ob.jp
X-WR-CALDESC:恵迪寮同窓会 のイベント
BEGIN:VTIMEZONE
TZID:Asia/Tokyo
BEGIN:STANDARD
TZOFFSETFROM:+0900
TZOFFSETTO:+0900
TZNAME:JST
DTSTART:20240101T000000
END:STANDARD
END:VTIMEZONE
BEGIN:VEVENT
DTSTART;TZID=Asia/Tokyo:20241102T120000
DTEND;TZID=Asia/Tokyo:20241102T153000
DTSTAMP:20260421T141116
CREATED:20240930T085448Z
LAST-MODIFIED:20240930T224304Z
UID:14888-1730548800-1730561400@www.keiteki-ob.jp
SUMMARY:東日本恵迪寮同窓会寮歌祭in池袋
DESCRIPTION:東日本恵迪寮同窓会寮歌祭in池袋のご案内\n　　　　　　　　　　　　　　　　　　　　　　　　　　　　２０２４年　１０月　吉日 \n  　地球温暖化の影響による異常気象、また、南海トラフ巨大地震に対する対応等、列島 を取り巻く状況は、コロナ禍以上に厳しさを増しております。されども、若き日に北の大地で育んだ希望（おもい）を今ふたたびと、大東京池袋の 地上約 200m の高殿で、「東日本恵迪寮同窓会寮歌祭」の開催を予定しております。 懐かしき寮友（ともどち）よ、彼の寮を思ひ浮べて、去りては再び帰らざる若き日の 感激を、あるいは新たなる希望（おもい）を寮歌（うた）に込め、声高らかに謳おうでは ありませんか。 \n東日本恵迪寮同窓会会長 坂倉 雅夫（昭和 44 年入寮） \n  \n　―記― \n１．開識社 日 時：2024 年 11 月 2 日（土）12 時 00 分～13 時 00 分（11 時 30 分受付開始） 会 場：緑丘会館（小樽商科大学同窓会館）　https://ryokkyu.or.jp/hall/ 住 所：〒170-6057 東京都豊島区東池袋3-1-1 池袋サンシャインビル57F 電 話：03-3981-2340 定 員：70名 講 師：山崎夏生氏（桑園寮・Ｓ５４北海道大学文学部国文科卒）元プロ野球審判 演 題：「野球でこぼこ道」 会 費：無料（先着順） ★開識社に参加希望の方はまず、グーグルフォームhttps://forms.gle/ApksBXw1fYgaTq8UA に必要事項を記入ください。 または、右ＱＲコードから入力も可能です。 ★なお寮歌祭に参加の方はグーグルフォームに書き込み不要。 代わりに送金時に振込票通信欄に開識社参加の可否を記入 してください。申し込み締め切り：10月25日（金）   \n２．東日本恵迪寮同窓会総会および恵迪寮 寮歌祭 日 時：2024年11月2日（土）13時20分～15時30分（13時00分受付開始） 会 場：同上 会 費：４，０００円 申 込：郵便局の青字の払込取扱票をご利用して送金ください。 口座記号：00260-3 口座番号：104403 口座名：恵迪寮同窓会東日本支部・寮歌祭 払込手数料は個人負担になります。 また、通信欄に入寮（入学）年、開識社に参加か不参加か、を記入ください。   【ゆうちょ銀行】 店名・預金種目・口座番号 : 〇二九 当座 0104403 市中銀行の ATM 会費納入をもって参加申込みとします。申し込み締め切り：10月25日（金） ※なお、会場面積の事情により参加者人数を先着順70名までとさせていただきます。   ３．その他 ■ 問合先（参加取消） ： 朝倉 仁樹（Ｓ５２年入寮・東日本恵迪寮同窓会 会計担当）  Ｅ-mail ： HZW03261@nifty.ne.jp  携帯 ： ０９０－２４８４－６９０４ ■ 問合先（一般事項） ： 竹下 忠彦（Ｓ５３年入寮・東日本恵迪寮同窓会 幹事長）  Ｅ-mail ： akadake2016@gmail.com  ＴＥＬ／ＦＡＸ : ０４２－７２８－９９２３  携帯 : ０９０－８１００－１０３８   【会場アクセス地図】https://ryokkyu.or.jp/access/   【交通アクセス】 池袋駅から徒歩8分 東池袋駅（東京メトロ有楽町線）から徒歩3分 　都電荒川線東池袋四丁目から徒歩4   PDFもご覧いただけます 東日本恵迪寮同窓会寮歌祭in池袋のご案内  
URL:https://www.keiteki-ob.jp/event/14888/
END:VEVENT
END:VCALENDAR