BEGIN:VCALENDAR
VERSION:2.0
PRODID:-//恵迪寮同窓会 - ECPv5.8.0//NONSGML v1.0//EN
CALSCALE:GREGORIAN
METHOD:PUBLISH
X-WR-CALNAME:恵迪寮同窓会
X-ORIGINAL-URL:https://www.keiteki-ob.jp
X-WR-CALDESC:恵迪寮同窓会 のイベント
BEGIN:VTIMEZONE
TZID:Asia/Tokyo
BEGIN:STANDARD
TZOFFSETFROM:+0900
TZOFFSETTO:+0900
TZNAME:JST
DTSTART:20240101T000000
END:STANDARD
END:VTIMEZONE
BEGIN:VEVENT
DTSTART;VALUE=DATE:20240928
DTEND;VALUE=DATE:20240929
DTSTAMP:20260426T002450
CREATED:20240901T005254Z
LAST-MODIFIED:20240902T061729Z
UID:14713-1727481600-1727567999@www.keiteki-ob.jp
SUMMARY:９．２８.北大ホームカミングデー　シンポジュムと「寮歌の集い」
DESCRIPTION:寮友の皆さん！　 思い出多いキャンパスで北大・恵迪寮の精神をふりかえり、 現寮生と共に恵迪寮改修問題について考えよう！ そして、寮歌を共に歌おうではありませんか！ \n   \n  \n  \n 　現在の恵迪寮は１９８３年に建設され築４０年を超え老朽化が進み、本格的な大規模改修が必要な状態です。このため北大・恵迪寮・恵迪寮同窓会の三者で協議が進められている状況にあります。　今年は、恵迪寮と恵迪寮同窓会の喫緊の課題である現寮改修問題について、ひろくその課題を共有し、北大と同じだけの歴史がある恵迪寮と自治を維持継承していこうと企画しました。 \n記 \n■シンポジウム ―恵迪寮改修問題を考える― 日　時 ： 令和6年9月28日（土）　13：30～15：30 会　場 ： クラーク会館大集会室1　　参加費 ： 無料　 プログラム： \n\n\n\n◆基調報告：「恵迪寮150周年と自治寮としての存在意義」    藤田　正一（S38年入寮・北大応援団第54代団長・恵迪寮同窓会副理事長 ・                           獣医学部名誉教授・元副学長・平成遠友夜学校校長）◆経過報告：「恵迪寮改修問題に関する寮自治会の対応の経緯と現時点の課題」     鎌倉　大輔（R03年入寮・恵迪寮自治会　大規模改修専門委員会委員長）◆方針説明：「躯体調査結果および今後の方針について」     吉沢　武治（S45年入寮・恵迪寮同窓会　理事・代表幹事）\n\n\n\n  ■寮歌の集い 日　時 ： 令和6年9月28日（土）　16：00～18：00 　　　　　　　 会　場 ： クラーク会館大集会室1 参加費 ： 5\,000円　　   ★参加申し込み 9月20日（金）までに、次の要領でお申し込み下さい。      【A】メール ： 申し込み専用メール　　keitekibunka@gmail.com　 　 ①氏名、②入寮年もしくは関わり、③連絡先（住所・TEL・メール）  ④参加行事（シンポジウム、寮歌の集い）を必ず明記のこと。      【B】FAX・ハガキの場合 : 上記①～④の項目を記載し、下記宛先に送付してください。   \n\n\n\n　　　　   一般社団法人恵迪寮同窓会　事務局 　　       　    　〒060-0808札幌市北区北8条西7丁目 北海道大学クラーク会館3階   　　　    電話・FAX：011-706-3276　 （月・水・金；10：00～16：00） 　       　　　 https://www.keiteki-ob.jp/　　　　　　　　　　　　　　　　　　　　　\n\n\n\n   
URL:https://www.keiteki-ob.jp/event/%e3%82%b7%e3%83%b3%e3%83%9d%e3%82%b8%e3%83%a5%e3%83%a0%e3%81%a8%e3%80%8c%e5%af%ae%e6%ad%8c%e3%81%ae%e9%9b%86%e3%81%84%e3%80%8d/
END:VEVENT
END:VCALENDAR