BEGIN:VCALENDAR
VERSION:2.0
PRODID:-//恵迪寮同窓会 - ECPv5.8.0//NONSGML v1.0//EN
CALSCALE:GREGORIAN
METHOD:PUBLISH
X-WR-CALNAME:恵迪寮同窓会
X-ORIGINAL-URL:https://www.keiteki-ob.jp
X-WR-CALDESC:恵迪寮同窓会 のイベント
BEGIN:VTIMEZONE
TZID:Asia/Tokyo
BEGIN:STANDARD
TZOFFSETFROM:+0900
TZOFFSETTO:+0900
TZNAME:JST
DTSTART:20260101T000000
END:STANDARD
END:VTIMEZONE
BEGIN:VEVENT
DTSTART;TZID=Asia/Tokyo:20260912T133000
DTEND;TZID=Asia/Tokyo:20260912T173000
DTSTAMP:20260423T233131
CREATED:20260423T040749Z
LAST-MODIFIED:20260423T072148Z
UID:16358-1789219800-1789234200@www.keiteki-ob.jp
SUMMARY:北大学寮（恵迪寮）１５０周年記念行事
DESCRIPTION:（一社）恵迪寮同窓会主催 \n北大学寮（恵迪寮）１５０周年記念行事 \n『北大150年―恵迪寮の自治が守り育てたクラーク精神』 \n＜記念講演＞&＜大寮歌祭＞ 　令和8年９月1２日（土）　13：00受付　（13：30～17：30） \n　今年は「北大創基１５０周年」であり、札幌農学校寄宿舎以来、「北大学寮（恵迪寮）１５０周年」にあたります。 　（一社）恵迪寮同窓会では、北大学寮（恵迪寮）150周年記念行事として『北大１５０年―恵迪寮の自治が守り育てたクラーク精神』をテーマに＜記念講演＞と＜大寮歌祭＞を開催します。 　現恵迪寮は１９８３年に建設され、既に築４３年を超えて老朽化が進み、大規模改修が喫緊の課題です。このため北大当局、恵迪寮自治会、恵迪寮同窓会の三者で協議が続けられており、愈々本年が正念場です。 　恵迪寮は困窮学生を救う施設であるだけではなく、寮の自治活動の中で培われる自主自律の精神＝クラーク精神の継承の場であり、他者を思いやる人間形成の道場でもあります。自治寮のこの「教育的価値」こそが、　　全人教育をうたう北大が失ってはならない中核的価値ではないでしょうか。 　恵迪寮同窓会は、自治寮の維持継承、改修の実現を促進すべく本行事を企画しました。 　是非、思い出多いキャンパスで北大・恵迪寮の精神をふりかえり、共に寮歌を高唱しませんか。 　なお、今年の大寮歌祭は北海道恵迪寮同窓会の主管です。 　また、北大は創基１５０周年記念式典及び記念イベントを令和８年９月２６日（土）・２７日（日）に開催します。 ※参照 https://150th.hokudai.ac.jp/news/2329　　 \n記 \n■記念講演　北大学寮150周年記念講演 日　時 ： 令和8年9月12日（土）　13：30～15：00 会　場 ： 北海道大学クラーク会館　大集会室　２①記念講演　『北大150年―恵迪寮の自治が守り育てたクラーク精神』　　　　　　 講師　一般社団法人恵迪寮同窓会 副理事長　藤田正一②報告 恵迪寮自治会からの報告 　恵迪寮自治会執行委員会　（予定）③報告　恵迪寮同窓会からのお願い 　一般社団法人恵迪寮同窓会 代表幹事　吉沢武治 　　参加費 ： 無料　 ■大寮歌祭 \n日　時 ： 令和8年9月12日（土）　15：30～17：30 会　場 ： 北海道大学クラーク会館　大集会室　１ 参加費 ： 7\,000円 参集対象　：　恵迪寮同窓会会員ほか北大・恵迪寮・寮歌を愛する方々 \n★申し込み 　　　参加申し込みは、①②③いずれかで、8月31日までにお願いします。 　　　①Googleフォーム ：　https://forms.gle/bvK2EB87EYZ4Qs6P6 　　②FAX ： 011-706-3276　　③ ハガキ : 下記の同窓会事務局宛に送付願います 　　　　「参加行事（記念講演、大寮歌祭）」「氏名」「連絡先（住所・TEL・メール）」 「入寮年又は関わり」などを明記してください。 また、いただいた個人情報はこの事業以外では使用いたしません。 　　　　★なお、行事詳細及び変更事項は決定次第、恵迪寮同窓会ホームページに掲載します。  \n  \n  \nPDFもありますので以下でご覧ください \n●20260912北大学寮150周年記念行事 案内D
URL:https://www.keiteki-ob.jp/event/%e5%8c%97%e5%a4%a7%e5%ad%a6%e5%af%ae%ef%bc%88%e6%81%b5%e8%bf%aa%e5%af%ae%ef%bc%89%ef%bc%91%ef%bc%95%ef%bc%90%e5%91%a8%e5%b9%b4%e8%a8%98%e5%bf%b5%e8%a1%8c%e4%ba%8b/
END:VEVENT
END:VCALENDAR